BEGIN:VCALENDAR
VERSION:2.0
PRODID:-//ChamberMaster//Event Calendar 2.0//EN
METHOD:PUBLISH
X-PUBLISHED-TTL:P3D
REFRESH-INTERVAL:P3D
CALSCALE:GREGORIAN
BEGIN:VEVENT
DTSTART:20190125T000000Z
DTEND:20190125T010000Z
X-MICROSOFT-CDO-ALLDAYEVENT:FALSE
SUMMARY:Alzheimer's Support Group
DESCRIPTION:Alzheimer's  Support Group\n\n			 \n			January 24th\, 2019\n			6:00 pm- 7:00 pm\n\n			Goodlife Assisted Living and Memory Care\n\n			126 Smirl Dr.   Heath\, TX 75032\n			Do you have a loved one suffering from Alzheimer's Disease or another form of Dementia?  Come and join our group on the 4th Thursday of every month.  Come support and be supported.  All are welcome to attend.  Light refreshments will be provided.    \n\n			 \n		\n	\n\n\n\n	\n		\n			for more information contact: Joanna Razowski @ 214-490-4387 Joanna@anchorofhopehospice.com or GoodLife @ 972-765-7414
X-ALT-DESC;FMTTYPE=text/html:<table border="0" cellpadding="0" cellspacing="0" style="width:530px\;margin-left:5.05pt\;border-collapse:collapse\;border:none\;" summary="Event flyer layout table" width="530">\n	<thead>\n		<tr style="height:518px\;">\n			<th style="width:530px\;padding:0in 0in 0in 0in\;height:518px\;vertical-align:top\;">&nbsp\;<br />\n			Alzheimer&rsquo\;s&nbsp\; Support Group<br />\n			&nbsp\;\n			<div style="border-top:dotted #572111 1.0pt\;border-left:dotted white 1.0pt\;border-bottom:none\;border-right:dotted white 1.0pt\;padding:15.0pt 2.0pt 0in 2.0pt\;margin-left:5.05pt\;margin-right:5.05pt\;">January 24<sup>th</sup>\, 2019</div>\n			6:00 pm- 7:00 pm\n\n			<div style="border-top:none\;border-left:dotted white 1.0pt\;border-bottom:dotted #572111 1.0pt\;border-right:dotted white 1.0pt\;padding:0in 2.0pt 15.0pt 2.0pt\;margin-left:5.05pt\;margin-right:5.05pt\;">Goodlife Assisted Living and Memory Care<br />\n			126 Smirl Dr.&nbsp\;&nbsp\; Heath\, TX 75032</div>\n			Do you have a loved one suffering from Alzheimer&rsquo\;s Disease or another form of Dementia?&nbsp\; Come and join our group on the 4<sup>th</sup> Thursday of every month.&nbsp\; Come support and be supported.&nbsp\; All are welcome to attend.&nbsp\; Light refreshments will be provided.&nbsp\; &nbsp\;&nbsp\;<br />\n			&nbsp\;</th>\n		</tr>\n	</thead>\n</table>\n\n<table border="0" cellpadding="0" cellspacing="0" style="margin-left:-35.3pt\;background:#F7F3E2\;border-collapse:collapse\;border:none\;" summary="Event flyer layout table" width="617">\n	<thead>\n		<tr style="height:71px\;">\n			<th style="width:617px\;padding:0in 46.1pt 0in 46.1pt\;height:71px\;">for more information contact: Joanna Razowski @ 214-490-4387 <a href="mailto:Joanna@anchorofhopehospice.com">Joanna@anchorofhopehospice.com</a> or GoodLife @ 972-765-7414</th>\n		</tr>\n	</thead>\n</table>\n&nbsp\;
LOCATION:Goodlife Assisted Living and Memory Care 126 Smirl Dr. Heath\, TX 75032
UID:e.1175.138842
SEQUENCE:3
DTSTAMP:20260421T062120Z
URL:http://rockwalldev.chambermaster.com/events/details/alzheimer-s-support-group-138842
END:VEVENT

END:VCALENDAR
